BEGIN:VCALENDAR
VERSION:2.0
PRODID:-//WINA - ECPv6.9.1//NONSGML v1.0//EN
CALSCALE:GREGORIAN
METHOD:PUBLISH
X-ORIGINAL-URL:https://wina.com.au
X-WR-CALDESC:Events for WINA
REFRESH-INTERVAL;VALUE=DURATION:PT1H
X-Robots-Tag:noindex
X-PUBLISHED-TTL:PT1H
BEGIN:VTIMEZONE
TZID:Australia/Melbourne
BEGIN:STANDARD
TZOFFSETFROM:+1100
TZOFFSETTO:+1000
TZNAME:AEST
DTSTART:20190406T160000
END:STANDARD
BEGIN:DAYLIGHT
TZOFFSETFROM:+1000
TZOFFSETTO:+1100
TZNAME:AEDT
DTSTART:20191005T160000
END:DAYLIGHT
BEGIN:STANDARD
TZOFFSETFROM:+1100
TZOFFSETTO:+1000
TZNAME:AEST
DTSTART:20200404T160000
END:STANDARD
BEGIN:DAYLIGHT
TZOFFSETFROM:+1000
TZOFFSETTO:+1100
TZNAME:AEDT
DTSTART:20201003T160000
END:DAYLIGHT
END:VTIMEZONE
BEGIN:VEVENT
DTSTART;TZID=Australia/Melbourne:20200909T123000
DTEND;TZID=Australia/Melbourne:20200909T133000
DTSTAMP:20260420T074023
CREATED:20200804T050630Z
LAST-MODIFIED:20200901T013142Z
UID:2145-1599654600-1599658200@wina.com.au
SUMMARY:Special COVID-19 economic update
DESCRIPTION:Find out how big the COVID induced black hole is and how are we going to dig our way out of this. \nWINA\, supported by Deloitte and ANZ’s Senior Economist\, Felicity Emmett\, is pleased to invite you to an online interactive economic briefing. \nFelicity Emmett will provide you with an overview of the state of the Australian economy\, including some industry by industry analysis of who is faring better or worse under the current COVID induced recession. Felicity will set out what the recovery is expected to look like and how long it is likely to take to get back to where we were. She will also share her views on the current range of stimulus measures (are they well targeted? are there better ways to stimulate an economy?). Felicity will happily take questions at the end so please join us to gain some interesting insights. \n Wednesday 9th September 2020 at 12:30pm (concludes at 1:30pm) \n To register for the Zoom webinar\, click on the link below: \n WINA Economic Update \nAfter registering\, you will receive a confirmation email containing information about joining the webinar.
URL:https://wina.com.au/event/economic-update/
ATTACH;FMTTYPE=image/jpeg:https://wina.com.au/wp-content/uploads/2020/06/iStock-1021387768.jpg
END:VEVENT
BEGIN:VEVENT
DTSTART;VALUE=DATE:20200828
DTEND;VALUE=DATE:20200829
DTSTAMP:20260420T074023
CREATED:20200831T094507Z
LAST-MODIFIED:20200901T023222Z
UID:2259-1598572800-1598659199@wina.com.au
SUMMARY:Speed Networking
DESCRIPTION:WINA recognises the challenges COVID has created for members to grow and develop their networks. Whilst WINA cannot host large events\, we still want to facilitate ‘one-on-one’ networking opportunities for WINA members. You get to choose whether you network with an insolvency practitioner or lawyer. All we need is for you to complete the form by clicking the link above to give us a little information about the type of person you would like to network with by 28 August 2020. \n 
URL:https://wina.com.au/event/speed-networking/
ATTACH;FMTTYPE=image/jpeg:https://wina.com.au/wp-content/uploads/2020/06/iStock-1095887596.jpg
END:VEVENT
BEGIN:VEVENT
DTSTART;TZID=Australia/Melbourne:20200813T123000
DTEND;TZID=Australia/Melbourne:20200813T170000
DTSTAMP:20260420T074023
CREATED:20200804T050442Z
LAST-MODIFIED:20200810T003257Z
UID:2144-1597321800-1597338000@wina.com.au
SUMMARY:Tax update seminar
DESCRIPTION:Click here to register for the event.
URL:https://wina.com.au/event/tax-update-seminar/
ATTACH;FMTTYPE=image/jpeg:https://wina.com.au/wp-content/uploads/2020/06/iStock-1021387768.jpg
END:VEVENT
BEGIN:VEVENT
DTSTART;TZID=Australia/Melbourne:20200624T110000
DTEND;TZID=Australia/Melbourne:20200624T170000
DTSTAMP:20260420T074023
CREATED:20200614T223959Z
LAST-MODIFIED:20200616T044236Z
UID:1916-1592996400-1593018000@wina.com.au
SUMMARY:Webinar 24 June 2020
DESCRIPTION:The end of the financial year is imminent\, so let’s discuss the tax-effective and growth opportunities within Super. To register to attend\, please click on the link below: https://www.research.net/r/WINA_Webinar_Financially_Fit
URL:https://wina.com.au/event/webinar-22-june-2020/
LOCATION:Online
ATTACH;FMTTYPE=image/jpeg:https://wina.com.au/wp-content/uploads/2020/06/iStock-1021387768.jpg
END:VEVENT
BEGIN:VEVENT
DTSTART;TZID=Australia/Melbourne:20200301T080000
DTEND;TZID=Australia/Melbourne:20200301T170000
DTSTAMP:20260420T074023
CREATED:20200615T064813Z
LAST-MODIFIED:20200615T065019Z
UID:2036-1583049600-1583082000@wina.com.au
SUMMARY:Inspirational Women’s breakfast
DESCRIPTION:This year WINA hosted breakfast session with the topic being “How to get financially fit”. The session covered budgeting fundamentals\, five steps to successful savings and how to avoid credit traps and was presented by Anthea Dang from Macquarie Wealth Management.
URL:https://wina.com.au/event/inspirational-womens-breakfast/
CATEGORIES:Show On Homepage
ATTACH;FMTTYPE=image/jpeg:https://wina.com.au/wp-content/uploads/2020/06/Womens-breakfast-event.jpg
END:VEVENT
BEGIN:VEVENT
DTSTART;TZID=Australia/Melbourne:20191114T080000
DTEND;TZID=Australia/Melbourne:20191114T170000
DTSTAMP:20260420T074023
CREATED:20200615T064633Z
LAST-MODIFIED:20200615T065020Z
UID:2034-1573718400-1573750800@wina.com.au
SUMMARY:Annual Great Debate Night
DESCRIPTION:The WINA Great Annual Debate was held on 14 November 2019 at the Arthouse Hotel. The topic debated was “Bring back the glory days of the 90s”. Thank you to LCM and FTI Consulting for sponsoring this year’s event
URL:https://wina.com.au/event/annual-great-debate-night/
CATEGORIES:Show On Homepage
ATTACH;FMTTYPE=image/jpeg:https://wina.com.au/wp-content/uploads/2020/06/Debate-Night-2019.jpg
END:VEVENT
BEGIN:VEVENT
DTSTART;TZID=Australia/Melbourne:20190828T080000
DTEND;TZID=Australia/Melbourne:20190828T170000
DTSTAMP:20260420T074023
CREATED:20200615T064911Z
LAST-MODIFIED:20200615T065020Z
UID:2041-1566979200-1567011600@wina.com.au
SUMMARY:Annual Trivia Night
DESCRIPTION:This year’s Annual WINA\nTrivia Night was held on Wednesday 28 August 2019 at Doltone House\, Hyde Park.It was a highly competitive field of players and once again\nGreat Race Trivia did not fail to impress the crowd with its signture brand of\nmental and physical challenges. But as always\, there could only be one winner\nwith McGrathNicol taking out the title on the night with a one point win.
URL:https://wina.com.au/event/annual-trivia-night/
CATEGORIES:Show On Homepage
ATTACH;FMTTYPE=image/jpeg:https://wina.com.au/wp-content/uploads/2020/06/WINA-trivia-night.jpg
END:VEVENT
END:VCALENDAR